BEGIN:VCALENDAR
METHOD:publish
PRODID:-//Stadt Ulm//NONSGML v1.0//DE
VERSION:2.0
BEGIN:VEVENT
UID:support@ulm.de
DTSTAMP:20260424T161500Z
DESCRIPTION:Kinderballett "Nussknacker"\n\nErlebe die zauberhafte Welt des Nussknackers – ein unvergessliches Balletterlebnis für die ganze Familie!

Das Kinderballett „Der Nussknacker“ ist eine festliche Bühnenproduktion mit professionellen Ballettkünstlern und jungen Talenten aus deutschen Ballettschulen.

Am Weihnachtsabend geschieht ein Wunder: Clara begegnet dem tapferen Nussknacker, der sie vor dem Mäusekönig beschützt. Gemeinsam beginnen sie eine zauberhafte Reise, in der in der Heiligen Nacht Träume wahr werden.\n\n\nUm die genauen Informationen noch einmal anzuschauen, klicken Sie bitte auf folgenden Link: \nhttps://veranstaltungen.ulm.de/leoonline/portals/ulm_en/veranstaltungen/id/52308/
DTEND:20261213T123000
DTSTART:20261213T110000
LOCATION:Edwin-Scharff-Haus - 89231 Neu-Ulm Silcherstraße 40
SUMMARY:Veranstaltungskalender Ulm/Neu-Ulm - Kinderballett "Nussknacker"
BEGIN:VALARM
ACTION:DISPLAY
TRIGGER:-P1D
END:VALARM
END:VEVENT
END:VCALENDAR
