BEGIN:VCALENDAR
METHOD:publish
PRODID:-//Stadt Ulm//NONSGML v1.0//DE
VERSION:2.0
BEGIN:VEVENT
UID:support@ulm.de
DTSTAMP:20260425T043700Z
DESCRIPTION:Ole Lucoje: „Pazifist mit Gewaltfantasien“ – Texte und Geschichten\n\nOle Lucoje stellt keine großen Fragen und beantwortet wahrscheinlich auch keine konkret – er beschreibt sie. Dabei scheut er weder die klassische Short Story noch knalligen Humor. 

In seinem Debüt zieht der Poetry-Slam-Pionier viele Register: bildstarke Geschichten, die ins Groteske kippen, gefeierte Bühnentexte sowie satirisch-essayistische Auseinandersetzungen mit der Überforderung eines jungen Zwangsneurotikers im großstädtischen Alltag. Jung, hochkomisch, nachdenklich und unbedingt unterhaltsam. Kommt rum, wird ziemlich grandios.

ÜBER „NU:LIT“:
2026 bringt „NU:LIT“ die Mundwinkel wieder nach oben, vertieft Lach- statt Sorgenfalten und verteilt literarische Lachanfälle im ganzen Neu-Ulmer Stadtgebiet. Die kleine, aber feine Reihe hat sich dem Humor in der Literatur verschrieben.
Weitere Infos unter neu-ulm.de/nulit:\n\n\nUm die genauen Informationen noch einmal anzuschauen, klicken Sie bitte auf folgenden Link: \nhttps://veranstaltungen.ulm.de/leoonline/portals/ulm_en/veranstaltungen/id/52303/
DTEND:20260511T190000
DTSTART:20260511T190000
LOCATION:Heimatmuseum Pfuhl - 89233 Neu-Ulm Hauptstraße 73
SUMMARY:Veranstaltungskalender Ulm/Neu-Ulm - Ole Lucoje: „Pazifist mit Gewaltfantasien“ – Texte und Geschichten
BEGIN:VALARM
ACTION:DISPLAY
TRIGGER:-P1D
END:VALARM
END:VEVENT
END:VCALENDAR
