BEGIN:VCALENDAR
METHOD:publish
PRODID:-//Stadt Ulm//NONSGML v1.0//DE
VERSION:2.0
BEGIN:VEVENT
UID:support@ulm.de
DTSTAMP:20260424T141300Z
DESCRIPTION:Cuervo Cuervo\n\nNach einem zufälligen Treffen auf den Straßen von Bacalar im Jahr 2018, beschlossen der Argentinier Agustín Ganem, Meister der Charango und der US-amerikanische Multiinstrumentalist und Produzent Benjamin Hill, ihre Kräfte zu bündeln.
Als Cuervo Cuervo erschaffen sie seitdem eine einzigartige Fusion aus psychedelischer elektronischer Musik, lateinamerikanischem Folk und Live-Improvisation.
Luftig leichte Gitarren- und Charango-Teppiche werden getragen von entspannten Downbeats. Ein schwebend, treibender Sound, der auf magische Weise ekstatisch und beruhigend zugleich wirkt.
Ihre Auftritte sind geprägt von virtuosem Live-Looping und einer unverwechselbaren organischen Klangästhetik. Und was besonders ist: Kein Konzert gleicht dem anderen! Jedes ist Ausdruck des Moments, der Verbindung der beiden Musiker mit dem Publikum – ein einmaliges Erlebnis!

***

Allgemeine Infos zum Sound Garten:

- Öffnungszeiten: Mittwoch — Samstag ab 17:00 H
- Eintritt zu allen Veranstaltungen kostenlos
- keine Sitzplatzreservierung möglich. First come, first serve!
- bei schlechtem Wetter bleibt der Biergarten geschlossen. Darüber informieren wir auf unserer Website und unseren Social Media Kanälen.
- an Konzerttagen nur Selbstbedienung\n\n\nUm die genauen Informationen noch einmal anzuschauen, klicken Sie bitte auf folgenden Link: \nhttps://veranstaltungen.ulm.de/leoonline/portals/ulm_en/veranstaltungen/id/52300/
DTEND:20260717T200000
DTSTART:20260717T200000
LOCATION:ROXY Ulm - 89077 Ulm Schillerstraße 1/12
SUMMARY:Veranstaltungskalender Ulm/Neu-Ulm - Cuervo Cuervo
BEGIN:VALARM
ACTION:DISPLAY
TRIGGER:-P1D
END:VALARM
END:VEVENT
END:VCALENDAR
