BEGIN:VCALENDAR
METHOD:publish
PRODID:-//Stadt Ulm//NONSGML v1.0//DE
VERSION:2.0
BEGIN:VEVENT
UID:support@ulm.de
DTSTAMP:20260424T155400Z
DESCRIPTION:Bockbieranstich im Barfüßer Biergarten Glacis\n\nDer Mai startet bei uns mit einem besonderen Highlight: dem traditionellen Bockbieranstich!
Am Freitag, 01. Mai, wird im Barfüßer Biergarten Glacis das erste Holzfass Barfüßer Maibock angestochen.
Ab 11:30 Uhr genießen Sie frisch gezapften Maibock, Blasmusik der Donaukrainer, bayrischen Obazda und ab 15:00 Uhr Flammlachs vom Grill.
O’zapft is – wir freuen uns auf Sie!\n\n\nUm die genauen Informationen noch einmal anzuschauen, klicken Sie bitte auf folgenden Link: \nhttps://veranstaltungen.ulm.de/leoonline/portals/ulm_en/veranstaltungen/id/52261/
DTEND:20260501T170000
DTSTART:20260501T110000
LOCATION:Barfüßer Biergarten Glacis - 89231 Neu-Ulm Caponniere 6
SUMMARY:Veranstaltungskalender Ulm/Neu-Ulm - Bockbieranstich im Barfüßer Biergarten Glacis
BEGIN:VALARM
ACTION:DISPLAY
TRIGGER:-P1D
END:VALARM
END:VEVENT
END:VCALENDAR
