BEGIN:VCALENDAR
METHOD:publish
PRODID:-//Stadt Ulm//NONSGML v1.0//DE
VERSION:2.0
BEGIN:VEVENT
UID:support@ulm.de
DTSTAMP:20260425T024600Z
DESCRIPTION:QUEEN VISION - LIVESHOW\n\nErlebt bei uns die QUEEN VISION - LIVESHOW unter Kastanien.\n\n\nUm die genauen Informationen noch einmal anzuschauen, klicken Sie bitte auf folgenden Link: \nhttps://veranstaltungen.ulm.de/leoonline/portals/ulm_en/veranstaltungen/id/52257/
DTEND:20260605T220000
DTSTART:20260605T200000
LOCATION:Biergarten Liederkranz - 89073 Ulm Friedrichsau 9
SUMMARY:Veranstaltungskalender Ulm/Neu-Ulm - QUEEN VISION - LIVESHOW
BEGIN:VALARM
ACTION:DISPLAY
TRIGGER:-P1D
END:VALARM
END:VEVENT
END:VCALENDAR
