BEGIN:VCALENDAR
METHOD:publish
PRODID:-//Stadt Ulm//NONSGML v1.0//DE
VERSION:2.0
BEGIN:VEVENT
UID:support@ulm.de
DTSTAMP:20260423T143900Z
DESCRIPTION:SINGER PUR: Ein Brausen vom Himmel\n\nCordula Kraetzl, Sopran | Christian Meister, Tenor | Marcel Hubner, Tenor | Manuel Warwitz, Tenor | Jakob Steiner, Bariton | Silas Bredemeier, Bass

Dem deutschen Ensemble Singer Pur gelingt es immer wieder, das Spannungsfeld von Alter und Neuer Musik auszuloten und damit sein Publikum zu fesseln und ihm neue Erkenntnisse zu vermitteln. Entdeckungen aus alten Büchern und Manuskripten, gekonnt kombiniert mit Uraufführungen, oft Auftragskompositionen, der Blick über Genregrenzen, die Zusammenarbeit mit interessanten Kolleg:innen und eine spürbare Verbundenheit zum Repertoire überzeugen Publikum wie Presse. 
Seit dem Debütkonzert im März 1992 hat sich Singer Pur – in der ursprünglichen Besetzung fünf ehemalige Regensburger Domspatzen sowie eine Sopranistin – zu einer der international führenden A-cappella-Formationen entwickelt. 

Tickets über www.ulmtickets.de und im Stadthaus Ulm
Eintrittspreis regulär 28 €  / ermäßigt 22 €.
Einlass und öffnen der Tageskasse um 18:30 Uhr.
Einlass erfolgt über die Nordpforte am Münsterplatz\n\n\nUm die genauen Informationen noch einmal anzuschauen, klicken Sie bitte auf folgenden Link: \nhttps://veranstaltungen.ulm.de/leoonline/portals/ulm_en/veranstaltungen/id/52254/
DTEND:20260624T203000
DTSTART:20260624T190000
LOCATION:Ulmer Münster - 89073 Ulm Münsterplatz 21
SUMMARY:Veranstaltungskalender Ulm/Neu-Ulm - SINGER PUR: Ein Brausen vom Himmel
BEGIN:VALARM
ACTION:DISPLAY
TRIGGER:-P1D
END:VALARM
END:VEVENT
END:VCALENDAR
