BEGIN:VCALENDAR
METHOD:publish
PRODID:-//Stadt Ulm//NONSGML v1.0//DE
VERSION:2.0
BEGIN:VEVENT
UID:support@ulm.de
DTSTAMP:20260424T180100Z
DESCRIPTION:Sommer-Poolparty\n\nKomm und sei zum Start der Sommerferien mit dabei! Es erwartet Dich ein unvergessliches Badeerlebnis mit vielen spannenden und lustigen Mitmach-Wasserspielen des Poolparty-Teams der Agentur Zephyrus.\n\n\nUm die genauen Informationen noch einmal anzuschauen, klicken Sie bitte auf folgenden Link: \nhttps://veranstaltungen.ulm.de/leoonline/portals/ulm_en/veranstaltungen/id/52250/
DTEND:20260801T180000
DTSTART:20260801T140000
LOCATION:Donaubad Neu-Ulm - 89231 Neu-Ulm Wiblingerstr. 55
SUMMARY:Veranstaltungskalender Ulm/Neu-Ulm - Sommer-Poolparty
BEGIN:VALARM
ACTION:DISPLAY
TRIGGER:-P1D
END:VALARM
END:VEVENT
END:VCALENDAR
