BEGIN:VCALENDAR
METHOD:publish
PRODID:-//Stadt Ulm//NONSGML v1.0//DE
VERSION:2.0
BEGIN:VEVENT
UID:support@ulm.de
DTSTAMP:20260424T154700Z
DESCRIPTION:Ausstellungseröffnung "Ernst Barlach. Facetten der Liebe"\n\nDas Thema Liebe beschäftigte den Bildhauer, Zeichner und Autor Ernst Barlach (1870-1938) sein Leben lang intensiv – privat wie auch in seinen plastischen und grafischen Werken. Für ihn war die Liebe als grundlegende menschliche Emotion weit mehr als die Beziehung eines konventionellen Paares, wie das Museum in einer neuen Sonderausstellung  zeigt.

Es sprechen

Katrin Albsteiger, Oberbürgermeisterin der Stadt Neu-Ulm
Begrüßung
 
Dr. Helga Gutbrod, Leiterin des Edwin Scharff Museums
zur Ausstellung
 
Dr. Magdalena Schulz-Ohm, Geschäftsführerin der Ernst Barlach Stiftung Güstrow
Einführung
 
Musikalische Umrahmung: Igor Omelchuk, Akkordeon\n\n\nUm die genauen Informationen noch einmal anzuschauen, klicken Sie bitte auf folgenden Link: \nhttps://veranstaltungen.ulm.de/leoonline/portals/ulm_en/veranstaltungen/id/52236/
DTEND:20260522T210000
DTSTART:20260522T183000
LOCATION:Edwin Scharff Museum - 89231 Neu-Ulm Petrusplatz 4
SUMMARY:Veranstaltungskalender Ulm/Neu-Ulm - Ausstellungseröffnung "Ernst Barlach. Facetten der Liebe"
BEGIN:VALARM
ACTION:DISPLAY
TRIGGER:-P1D
END:VALARM
END:VEVENT
END:VCALENDAR
