BEGIN:VCALENDAR
METHOD:publish
PRODID:-//Stadt Ulm//NONSGML v1.0//DE
VERSION:2.0
BEGIN:VEVENT
UID:support@ulm.de
DTSTAMP:20260422T220200Z
DESCRIPTION:Engagement zum Frühstück\n\nDu bist neu im Ruhestand oder schon länger verrentet und möchtest Deine Zeit sinnvoll gestalten, neue Menschen kennenlernen und mit Deinem Wissen und Deinen Erfahrungen etwas bewegen? Dann bist Du bei unserem »Engagement zum Frühstück« genau richtig. Bei Butterbrezel, Kaffee und Tee zeigen wir Dir, welche vielfältigen Möglichkeiten es gibt, Dich in dieser neuen Lebensphase einzubringen. Ob regelmäßig oder ganz flexibel: Gemeinsam entdecken wir, was zu Deinen Interessen passt. Anmeldung erbeten.\n\n\nUm die genauen Informationen noch einmal anzuschauen, klicken Sie bitte auf folgenden Link: \nhttps://veranstaltungen.ulm.de/leoonline/portals/ulm_en/veranstaltungen/id/52231/
DTEND:20260428T110000
DTSTART:20260428T093000
LOCATION:Ulm, Radgasse 8 - 89073 Ulm Radgasse 8
SUMMARY:Veranstaltungskalender Ulm/Neu-Ulm - Engagement zum Frühstück
BEGIN:VALARM
ACTION:DISPLAY
TRIGGER:-P1D
END:VALARM
END:VEVENT
END:VCALENDAR
