BEGIN:VCALENDAR
METHOD:publish
PRODID:-//Stadt Ulm//NONSGML v1.0//DE
VERSION:2.0
BEGIN:VEVENT
UID:support@ulm.de
DTSTAMP:20260422T224000Z
DESCRIPTION:Engagement-Möglichkeiten in Ulm\n\nOb mit Tieren, Kindern, der Umwelt oder Kultur – es gibt viele Vereine und Organisationen, bei denen man sich engagieren kann. Du kannst regelmäßig, einmalig oder ab und zu mitmachen. An diesem Abend schauen wir auf deine Interessen und helfen dir, ein passendes Engagement zu finden. Diese Veranstaltung ist Teil der EngagierDich-Woche Ulm. Anmeldung erbeten:  info@engagiert-in-ulm.de\n\n\nUm die genauen Informationen noch einmal anzuschauen, klicken Sie bitte auf folgenden Link: \nhttps://veranstaltungen.ulm.de/leoonline/portals/ulm_en/veranstaltungen/id/52230/
DTEND:20260428T193000
DTSTART:20260428T180000
LOCATION:Ulm, Radgasse 8 - 89073 Ulm Radgasse 8
SUMMARY:Veranstaltungskalender Ulm/Neu-Ulm - Engagement-Möglichkeiten in Ulm
BEGIN:VALARM
ACTION:DISPLAY
TRIGGER:-P1D
END:VALARM
END:VEVENT
END:VCALENDAR
