BEGIN:VCALENDAR
METHOD:publish
PRODID:-//Stadt Ulm//NONSGML v1.0//DE
VERSION:2.0
BEGIN:VEVENT
UID:support@ulm.de
DTSTAMP:20260424T155400Z
DESCRIPTION:Kulturnacht in Blaubeuren\n\nMitten in der schönen Altstadt und rund um den Klosterhof, in vielen Locations und auf den mittelalterlichen Plätzen und Straßen der Stadt bot Blaubeuren zum fünften Mal ein buntes, kulturelles Spektakel, welches von Livemusik über Akrobatik, Spiel und Tanz, bis hin zu ausgefallenen Performances reicht.
Mit dem Kauf eines Eintrittsbändels (10 €) sichert Ihr künftige Aktionen und Euch ein sorgloses Eintauchen ins Blaubeurer Nachtleben. Ein Event der "Blautöne"   www.blautöne-blaubeuren.de\n\n\nUm die genauen Informationen noch einmal anzuschauen, klicken Sie bitte auf folgenden Link: \nhttps://veranstaltungen.ulm.de/leoonline/portals/ulm_en/veranstaltungen/id/52199/
DTEND:20260912T180000
DTSTART:20260912T180000
LOCATION:Zum fröhlichen Nix - Kleinkunst-Cafe - 89143 Blaubeuren Hirschgasse 1
SUMMARY:Veranstaltungskalender Ulm/Neu-Ulm - Kulturnacht in Blaubeuren
BEGIN:VALARM
ACTION:DISPLAY
TRIGGER:-P1D
END:VALARM
END:VEVENT
END:VCALENDAR
