BEGIN:VCALENDAR
METHOD:publish
PRODID:-//Stadt Ulm//NONSGML v1.0//DE
VERSION:2.0
BEGIN:VEVENT
UID:support@ulm.de
DTSTAMP:20260424T155400Z
DESCRIPTION:Die Rebellion der Gärten\n\nFamilienfreundliches Openair im Stadtpark! In Zusammenarbeit mit zahl
reichen Umwelt-Verbänden und tollen Musikgruppen entsteht ein informativer
Spiel & Spaß Event, der seinesgleichen sucht! Und am Schluß rockt’s!
Ein weiterer Event unserer Kultur-Initiative "Blautöne". Mehr Infos:  www.blautöne-blaubeuren.de\n\n\nUm die genauen Informationen noch einmal anzuschauen, klicken Sie bitte auf folgenden Link: \nhttps://veranstaltungen.ulm.de/leoonline/portals/ulm_en/veranstaltungen/id/52198/
DTEND:20260906T140000
DTSTART:20260906T140000
LOCATION:Zum fröhlichen Nix - Kleinkunst-Cafe - 89143 Blaubeuren Hirschgasse 1
SUMMARY:Veranstaltungskalender Ulm/Neu-Ulm - Die Rebellion der Gärten
BEGIN:VALARM
ACTION:DISPLAY
TRIGGER:-P1D
END:VALARM
END:VEVENT
END:VCALENDAR
