BEGIN:VCALENDAR
METHOD:publish
PRODID:-//Stadt Ulm//NONSGML v1.0//DE
VERSION:2.0
BEGIN:VEVENT
UID:support@ulm.de
DTSTAMP:20260424T155400Z
DESCRIPTION:Der 8. Blaubeurer Bardentreff\n\nEine Stadt im musikalischen Ausnahmezustand! 14 Musikgruppen, Duo’s und
Einzelkünstler*innen sorgen auf 4 Bühnen für Strassenmusik nonstop!
Bei Regen eine Woche später! Eintritt frei - Hutsammlung oder Gitarrenkoffer.
Wieder ein Event unserer Kultur-Initiative "Blautöne". Mit im Boot "Der Fröhliche Nix".\n\n\nUm die genauen Informationen noch einmal anzuschauen, klicken Sie bitte auf folgenden Link: \nhttps://veranstaltungen.ulm.de/leoonline/portals/ulm_en/veranstaltungen/id/52196/
DTEND:20260816T110000
DTSTART:20260816T110000
LOCATION:Zum fröhlichen Nix - Kleinkunst-Cafe - 89143 Blaubeuren Hirschgasse 1
SUMMARY:Veranstaltungskalender Ulm/Neu-Ulm - Der 8. Blaubeurer Bardentreff
BEGIN:VALARM
ACTION:DISPLAY
TRIGGER:-P1D
END:VALARM
END:VEVENT
END:VCALENDAR
