BEGIN:VCALENDAR
METHOD:publish
PRODID:-//Stadt Ulm//NONSGML v1.0//DE
VERSION:2.0
BEGIN:VEVENT
UID:support@ulm.de
DTSTAMP:20260424T155400Z
DESCRIPTION:Hirschgassenfest\n\nEinmal im Jahr wird die Hirschgasse zwischen „Fass“ und „Nix“ zur Partymeile und rockt mal so richtig ab. 
Bei Regen eine Woche später!\n\n\nUm die genauen Informationen noch einmal anzuschauen, klicken Sie bitte auf folgenden Link: \nhttps://veranstaltungen.ulm.de/leoonline/portals/ulm_en/veranstaltungen/id/52195/
DTEND:20260725T160000
DTSTART:20260725T160000
LOCATION:Zum fröhlichen Nix - Kleinkunst-Cafe - 89143 Blaubeuren Hirschgasse 1
SUMMARY:Veranstaltungskalender Ulm/Neu-Ulm - Hirschgassenfest
BEGIN:VALARM
ACTION:DISPLAY
TRIGGER:-P1D
END:VALARM
END:VEVENT
END:VCALENDAR
