BEGIN:VCALENDAR
METHOD:publish
PRODID:-//Stadt Ulm//NONSGML v1.0//DE
VERSION:2.0
BEGIN:VEVENT
UID:support@ulm.de
DTSTAMP:20260424T155400Z
DESCRIPTION:Urgewalt & Farbenpracht\n\nGroße Openair-Kunstausstellung auf dem Blaubeurer Kirchplatz! Umrahmt von Livemusik und diversen Mitmach-Aktionen stellen uns lokale Künstler*innen ihre
Werke zum Nulltarif vor. 
Sofort anmelden:  urgewalt-farbenpracht@web.de  Das Ganze ist eine Aktion der Blaubeurer Kultur-Initiative "Blautöne". Mehr Infos:  www.blautöne-blaubeuren.de\n\n\nUm die genauen Informationen noch einmal anzuschauen, klicken Sie bitte auf folgenden Link: \nhttps://veranstaltungen.ulm.de/leoonline/portals/ulm_en/veranstaltungen/id/52193/
DTEND:20260627T140000
DTSTART:20260627T140000
LOCATION:Zum fröhlichen Nix - Kleinkunst-Cafe - 89143 Blaubeuren Hirschgasse 1
SUMMARY:Veranstaltungskalender Ulm/Neu-Ulm - Urgewalt & Farbenpracht
BEGIN:VALARM
ACTION:DISPLAY
TRIGGER:-P1D
END:VALARM
END:VEVENT
END:VCALENDAR
