BEGIN:VCALENDAR
METHOD:publish
PRODID:-//Stadt Ulm//NONSGML v1.0//DE
VERSION:2.0
BEGIN:VEVENT
UID:support@ulm.de
DTSTAMP:20260424T155400Z
DESCRIPTION:Das Blaubeurer Frühlingserwachen\n\nFamilienfreundliches Strassenfest vor dem „Fröhlichen Nix“ für ein buntes und
freundliches Miteinander in Blaubeuren und anderswo. Überraschungen,
Livemusik, Kinderprogramm und zum Einstieg Weisswurst-Frühschoppen\n\n\nUm die genauen Informationen noch einmal anzuschauen, klicken Sie bitte auf folgenden Link: \nhttps://veranstaltungen.ulm.de/leoonline/portals/ulm_en/veranstaltungen/id/52192/
DTEND:20260517T110000
DTSTART:20260517T110000
LOCATION:Zum fröhlichen Nix - Kleinkunst-Cafe - 89143 Blaubeuren Hirschgasse 1
SUMMARY:Veranstaltungskalender Ulm/Neu-Ulm - Das Blaubeurer Frühlingserwachen
BEGIN:VALARM
ACTION:DISPLAY
TRIGGER:-P1D
END:VALARM
END:VEVENT
END:VCALENDAR
