BEGIN:VCALENDAR
METHOD:publish
PRODID:-//Stadt Ulm//NONSGML v1.0//DE
VERSION:2.0
BEGIN:VEVENT
UID:support@ulm.de
DTSTAMP:20260424T155300Z
DESCRIPTION:Irish Folk Session / Takt & Torte\n\nIrish Folk Session – in illustrer Runde
Der Plan ist, daß sich interessierte Irish-Folkies im Vorfeld 1-2 mal treffen und sich dabei ein gemeinsames Nachmittagsprogramm überlegen. Wer gern mitmachen möchte, schickt am Besten ein Email an: jetzt@zumnix.de\n\n\nUm die genauen Informationen noch einmal anzuschauen, klicken Sie bitte auf folgenden Link: \nhttps://veranstaltungen.ulm.de/leoonline/portals/ulm_en/veranstaltungen/id/52191/
DTEND:20260719T150000
DTSTART:20260719T150000
LOCATION:Zum fröhlichen Nix - Kleinkunst-Cafe - 89143 Blaubeuren Hirschgasse 1
SUMMARY:Veranstaltungskalender Ulm/Neu-Ulm - Irish Folk Session / Takt & Torte
BEGIN:VALARM
ACTION:DISPLAY
TRIGGER:-P1D
END:VALARM
END:VEVENT
END:VCALENDAR
