BEGIN:VCALENDAR
METHOD:publish
PRODID:-//Stadt Ulm//NONSGML v1.0//DE
VERSION:2.0
BEGIN:VEVENT
UID:support@ulm.de
DTSTAMP:20260424T154700Z
DESCRIPTION:Panthony Silent Sounds / bei "Takt & Torte"\n\nBeatles & Nostalgisches
Karin Probst und Peter A. Siegel lieben Schnulzen der Film- und Weltmusik. Aber auch die Beatles. So entsteht ein illustrer Nachmittag, der ans Herz geht.\n\n\nUm die genauen Informationen noch einmal anzuschauen, klicken Sie bitte auf folgenden Link: \nhttps://veranstaltungen.ulm.de/leoonline/portals/ulm_en/veranstaltungen/id/52190/
DTEND:20260705T150000
DTSTART:20260705T150000
LOCATION:Zum fröhlichen Nix - Kleinkunst-Cafe - 89143 Blaubeuren Hirschgasse 1
SUMMARY:Veranstaltungskalender Ulm/Neu-Ulm - Panthony Silent Sounds / bei "Takt & Torte"
BEGIN:VALARM
ACTION:DISPLAY
TRIGGER:-P1D
END:VALARM
END:VEVENT
END:VCALENDAR
