BEGIN:VCALENDAR
METHOD:publish
PRODID:-//Stadt Ulm//NONSGML v1.0//DE
VERSION:2.0
BEGIN:VEVENT
UID:support@ulm.de
DTSTAMP:20260424T161500Z
DESCRIPTION:Crossbow "unplugged" / Takt & Torte\n\nCrossbow ist eine 7köpfige Rockband, die in Erstetten probt. Titel aus den 70ern bis heute, von All You Zombies über Purple Rain bis Wish You Were Here. Die Tracks kommen  in eigener Interpretation nahe am Original daher. Für den Nix so gut wie möglich akkustisch …\n\n\nUm die genauen Informationen noch einmal anzuschauen, klicken Sie bitte auf folgenden Link: \nhttps://veranstaltungen.ulm.de/leoonline/portals/ulm_en/veranstaltungen/id/52186/
DTEND:20260614T150000
DTSTART:20260614T150000
LOCATION:Zum fröhlichen Nix - Kleinkunst-Cafe - 89143 Blaubeuren Hirschgasse 1
SUMMARY:Veranstaltungskalender Ulm/Neu-Ulm - Crossbow "unplugged" / Takt & Torte
BEGIN:VALARM
ACTION:DISPLAY
TRIGGER:-P1D
END:VALARM
END:VEVENT
END:VCALENDAR
