BEGIN:VCALENDAR
METHOD:publish
PRODID:-//Stadt Ulm//NONSGML v1.0//DE
VERSION:2.0
BEGIN:VEVENT
UID:support@ulm.de
DTSTAMP:20260424T155400Z
DESCRIPTION:Duo Pianissimo\n\nEntspannte Popsongs, Balladen, Jazz
Das Duo Pianissimo mit Cornelia Koller am Klavier und Jirí Popek am
Sopransaxofon entführt in Klangwelten zwischen ruhigem Jazz, gefühlvollen
Balladen und entspannten Bossa-Nova-Rhythmen. So entstehen intensive
musikalische Momente: zum Augenschließen, Träumen und Genießen. www.duo-pianissimo.de\n\n\nUm die genauen Informationen noch einmal anzuschauen, klicken Sie bitte auf folgenden Link: \nhttps://veranstaltungen.ulm.de/leoonline/portals/ulm_en/veranstaltungen/id/52184/
DTEND:20260531T150000
DTSTART:20260531T150000
LOCATION:Zum fröhlichen Nix - Kleinkunst-Cafe - 89143 Blaubeuren Hirschgasse 1
SUMMARY:Veranstaltungskalender Ulm/Neu-Ulm - Duo Pianissimo
BEGIN:VALARM
ACTION:DISPLAY
TRIGGER:-P1D
END:VALARM
END:VEVENT
END:VCALENDAR
