BEGIN:VCALENDAR
METHOD:publish
PRODID:-//Stadt Ulm//NONSGML v1.0//DE
VERSION:2.0
BEGIN:VEVENT
UID:support@ulm.de
DTSTAMP:20260424T155400Z
DESCRIPTION:Hans Theessink\n\nLebende Legende der Rootsmusik! Mit über 8000 Konzerten, 30 Alben und beeindruckenden 50 Jahren Bühnenpräsenz ist Hans Theessink eine unangefochtene Institution der Rootsmusik. Seine gefühlvollen Interpretationen des Acoustic Blues haben ihn zu einer herausragenden Persönlichkeit gemacht. Als Wahlwiener mit sonoren Stimme und unverkennbarem Gitarrenstil, hat er weltweit Anerkennung gefunden. (25 €)\n\n\nUm die genauen Informationen noch einmal anzuschauen, klicken Sie bitte auf folgenden Link: \nhttps://veranstaltungen.ulm.de/leoonline/portals/ulm_en/veranstaltungen/id/52183/
DTEND:20260512T193000
DTSTART:20260512T193000
LOCATION:Zum fröhlichen Nix - Kleinkunst-Cafe - 89143 Blaubeuren Hirschgasse 1
SUMMARY:Veranstaltungskalender Ulm/Neu-Ulm - Hans Theessink
BEGIN:VALARM
ACTION:DISPLAY
TRIGGER:-P1D
END:VALARM
END:VEVENT
END:VCALENDAR
