BEGIN:VCALENDAR
METHOD:publish
PRODID:-//Stadt Ulm//NONSGML v1.0//DE
VERSION:2.0
BEGIN:VEVENT
UID:support@ulm.de
DTSTAMP:20260421T164200Z
DESCRIPTION:Kantatengottesdienst Ulmer Münster\n\nKantate bedeutet übersetzt "Singt!". In diesem Fall folgt die Herleitung von Psalm 96 Cantate Domino. 
Der vierte Sonntag nach Ostern wird als Sonntag Kantate begangen und deshalb musikalisch im Ulmer Münster immer mit einer Kantate musikalisch besonders ausgestaltet.
In diesem Jahr erklingt die Kantate "Gott, der Herr, ist Sonn und Schild" BWV 79 von Johann Sebastian Bach.
Bach komponierte sie für das Reformationsfest 1725 in festlicher Besetzung mit Streichinstrumenten, Hörnern und Pauken. 
Im Ulmer Münster musizieren: Eva Zalenga (Sopran), Hanna Schäfer (Alt), Hans Porten (Bass), Mitglieder des Philharmonischen Orchesters der Stadt Ulm und der Motettenchor der Münsterkantorei Ulm unter Leitung von Münsterkantor Friedemann Johannes Wieland.\n\n\nUm die genauen Informationen noch einmal anzuschauen, klicken Sie bitte auf folgenden Link: \nhttps://veranstaltungen.ulm.de/leoonline/portals/ulm_en/veranstaltungen/id/52179/
DTEND:20260503T104000
DTSTART:20260503T093000
LOCATION:Ulmer Münster - 89073 Ulm Münsterplatz 21
SUMMARY:Veranstaltungskalender Ulm/Neu-Ulm - Kantatengottesdienst Ulmer Münster
BEGIN:VALARM
ACTION:DISPLAY
TRIGGER:-P1D
END:VALARM
END:VEVENT
END:VCALENDAR
