BEGIN:VCALENDAR
METHOD:publish
PRODID:-//Stadt Ulm//NONSGML v1.0//DE
VERSION:2.0
BEGIN:VEVENT
UID:support@ulm.de
DTSTAMP:20260421T165200Z
DESCRIPTION:Orgelführung an die Hauptorgel\n\nOrgelführung an die Hauptorgel 
Geschichte, Technik und Klangfaszination 
Der Münsterorganist gibt den Teilnehmenden einen Einblick in die Geschichte der großen Münsterorgel, er erklärt die technische Funktionsweise der Orgel und präsentiert die Königin der Instrumente klanglich. 
Teilnehmende sollten gut zu Fuß sein, da zur Orgelempore ca. 20 Höhenmeter zurückgelegt werden. 
Dauer: max. 90 Minuten 
Teilnahme: max. 25 Personen 
Treffpunkt: Unterhalb der Kanzel im Mittelschiff

Eintrittskarten sind im Münstershop erhältlich.
Regulär 10 € / Ermäßigt 7 €\n\n\nUm die genauen Informationen noch einmal anzuschauen, klicken Sie bitte auf folgenden Link: \nhttps://veranstaltungen.ulm.de/leoonline/portals/ulm_en/veranstaltungen/id/52175/
DTEND:20260826T193000
DTSTART:20260826T180000
LOCATION:Ulmer Münster - 89073 Ulm Münsterplatz 21
SUMMARY:Veranstaltungskalender Ulm/Neu-Ulm - Orgelführung an die Hauptorgel
BEGIN:VALARM
ACTION:DISPLAY
TRIGGER:-P1D
END:VALARM
END:VEVENT
END:VCALENDAR
