BEGIN:VCALENDAR
METHOD:publish
PRODID:-//Stadt Ulm//NONSGML v1.0//DE
VERSION:2.0
BEGIN:VEVENT
UID:support@ulm.de
DTSTAMP:20260425T035900Z
DESCRIPTION:David Berlinghof präsentiert: ZAMGLACHT!\n\nEin lachendes Lauffeuer kündigt sich an, wenn David Berlinghof mit seinen Gästen Angela Ascher, Maxi Pongratz & Christl einlädt 
Christl Sittenauer - politisch verziert - musikalisch serviert
MAXI PONGRATZ -Mit Wort und Musik geht Maxi Pongratz auf seiner neuen Tour den großen Fragen an den Kragen: Wie wird man, wer man sein will? Was hat Volksmusik mit Heimat zu tun? Und was ist das überhaupt: Heimat ?
Angela Ascher - mit ihrem ersten Bühnenprogramm "Verdammt, ich lieb mich".\n\n\nUm die genauen Informationen noch einmal anzuschauen, klicken Sie bitte auf folgenden Link: \nhttps://veranstaltungen.ulm.de/leoonline/portals/ulm_en/veranstaltungen/id/52163/
DTEND:20260925T235900
DTSTART:20260925T200000
LOCATION:Kulturzentrum Wolfgang-Eychmüller-Haus - 89269 Vöhringen Hettstetter Platz 1
SUMMARY:Veranstaltungskalender Ulm/Neu-Ulm - David Berlinghof präsentiert: ZAMGLACHT!
BEGIN:VALARM
ACTION:DISPLAY
TRIGGER:-P1D
END:VALARM
END:VEVENT
END:VCALENDAR
