BEGIN:VCALENDAR
METHOD:publish
PRODID:-//Stadt Ulm//NONSGML v1.0//DE
VERSION:2.0
BEGIN:VEVENT
UID:support@ulm.de
DTSTAMP:20260425T024700Z
DESCRIPTION:Offene Bühne! Vöhringen\n\nKommen Sie vorbei und genießen Sie einen Abend voller Kreativität und Vielfalt! Auf unserer offenen Bühne präsentieren Künstlerinnen und Künstler aller Altersgruppen und Genres – von Musik, Literatur und Tanz bis zu Theater und Performance – ihre Talente. Lassen Sie sich inspirieren, entdecken Sie neue Ausdrucksformen und seien Sie Teil eines lebendigen künstlerischen Austauschs.\n\n\nUm die genauen Informationen noch einmal anzuschauen, klicken Sie bitte auf folgenden Link: \nhttps://veranstaltungen.ulm.de/leoonline/portals/ulm_en/veranstaltungen/id/52161/
DTEND:20261018T180000
DTSTART:20261018T180000
LOCATION:Kulturzentrum Wolfgang-Eychmüller-Haus - 89269 Vöhringen Hettstetter Platz 1
SUMMARY:Veranstaltungskalender Ulm/Neu-Ulm - Offene Bühne! Vöhringen
BEGIN:VALARM
ACTION:DISPLAY
TRIGGER:-P1D
END:VALARM
END:VEVENT
END:VCALENDAR
