BEGIN:VCALENDAR
METHOD:publish
PRODID:-//Stadt Ulm//NONSGML v1.0//DE
VERSION:2.0
BEGIN:VEVENT
UID:support@ulm.de
DTSTAMP:20260425T024700Z
DESCRIPTION:Nie genug von Sumsebar\n\nEine wunderschöne Geschichte mit viel Musik und Bewegung über Freundschaft, Nachhaltigkeit und den Wert des Einzigartigen – für Kinder ab 4 Jahren und alle, die es immer noch sind.
Regie und Musik: Ralf Siebenand
Schauspiel: Ellen Gottschlich, Sabrina Vieweber
Texte: Ralf Siebenand, Katrin Orth
Ausstattung und Kostu?me: Katrin Orth
Illustration: Sabrina Vieweber
Fotos: Olaf Abdinghoff
Gefördert durch den Landschaftsverband Osnabrücker Land e.V. und die Stadt Osnabrück\n\n\nUm die genauen Informationen noch einmal anzuschauen, klicken Sie bitte auf folgenden Link: \nhttps://veranstaltungen.ulm.de/leoonline/portals/ulm_en/veranstaltungen/id/52160/
DTEND:20261109T150000
DTSTART:20261109T150000
LOCATION:Kulturzentrum Wolfgang-Eychmüller-Haus - 89269 Vöhringen Hettstetter Platz 1
SUMMARY:Veranstaltungskalender Ulm/Neu-Ulm - Nie genug von Sumsebar
BEGIN:VALARM
ACTION:DISPLAY
TRIGGER:-P1D
END:VALARM
END:VEVENT
END:VCALENDAR
