BEGIN:VCALENDAR
METHOD:publish
PRODID:-//Stadt Ulm//NONSGML v1.0//DE
VERSION:2.0
BEGIN:VEVENT
UID:support@ulm.de
DTSTAMP:20260425T024700Z
DESCRIPTION:Rock meets Classic - Siggi Schwarz mit Band feat. Markus Engelstaedter & Frankfurter Sinfoniker\n\nDas wird ein ganz besonderes Erlebnis!
Eine fünfköpfige Rock Band und dazu ein 9-köpfiges Ensemble der Frankfurter Sinfoniker, alle gemeinsam im Kulturzentrum Vöhringen auf der Bühne. Und sie spielen nichts Geringeres, als die größten Rocksongs aller Zeiten. Von „Bohemian Rhapsody“ über „Don’t stop believin’“ bis „Stairway to Heaven“ und „Hotel California“.
Realisiert wird das Projekt von Gitarrenlegende Siggi Schwarz, der damit seinen Traum wahr macht.\n\n\nUm die genauen Informationen noch einmal anzuschauen, klicken Sie bitte auf folgenden Link: \nhttps://veranstaltungen.ulm.de/leoonline/portals/ulm_en/veranstaltungen/id/52159/
DTEND:20270320T200000
DTSTART:20270320T200000
LOCATION:Kulturzentrum Wolfgang-Eychmüller-Haus - 89269 Vöhringen Hettstetter Platz 1
SUMMARY:Veranstaltungskalender Ulm/Neu-Ulm - Rock meets Classic - Siggi Schwarz mit Band feat. Markus Engelstaedter & Frankfurter Sinfoniker
BEGIN:VALARM
ACTION:DISPLAY
TRIGGER:-P1D
END:VALARM
END:VEVENT
END:VCALENDAR
