BEGIN:VCALENDAR
METHOD:publish
PRODID:-//Stadt Ulm//NONSGML v1.0//DE
VERSION:2.0
BEGIN:VEVENT
UID:support@ulm.de
DTSTAMP:20260425T024700Z
DESCRIPTION:Spanische Impressionen - Eine Hommage an Manuel de Falla\n\nDas Ensemble Varié ehrt gemeinsam mit den Flamenco-Musikerinnen Gisa Michelón (Tanz) und Estela Sanz Posteguillo (Gesang) den großen spanischen Komponisten Manuel de Falla (1876-1946), dem es wie keinem anderen spanischen Komponisten gelang, folkloristische und dem Flamenco entlehnte Elementen mit einer klassischen und impressionistischen Musiksprache zu verbinden. Auf dem Programm stehen Werke de Fallas und musikalische Jubiläumsgrüße seiner Komponistenfreunde Debussy, Ravel, Albéniz, Turina.\n\n\nUm die genauen Informationen noch einmal anzuschauen, klicken Sie bitte auf folgenden Link: \nhttps://veranstaltungen.ulm.de/leoonline/portals/ulm_en/veranstaltungen/id/52158/
DTEND:20261023T200000
DTSTART:20261023T200000
LOCATION:Kulturzentrum Wolfgang-Eychmüller-Haus - 89269 Vöhringen Hettstetter Platz 1
SUMMARY:Veranstaltungskalender Ulm/Neu-Ulm - Spanische Impressionen - Eine Hommage an Manuel de Falla
BEGIN:VALARM
ACTION:DISPLAY
TRIGGER:-P1D
END:VALARM
END:VEVENT
END:VCALENDAR
