BEGIN:VCALENDAR
METHOD:publish
PRODID:-//Stadt Ulm//NONSGML v1.0//DE
VERSION:2.0
BEGIN:VEVENT
UID:support@ulm.de
DTSTAMP:20260424T154700Z
DESCRIPTION:Heated Rivalry Party in Ulm\n\nAm 13. Mai 2026 kommt die THE COTTAGE – Heated Rivalry Party nach Ulm. Das Event ist Teil der Heated Rivalry Europa Tour 2026 und bringt Fans der weltbekannten Geschichte rund um Shane Hollander und Ilya Rozanov erstmals als Community-Event zusammen.

Die Veranstaltung findet in der Frau Berger Ulm statt und richtet sich an alle Fans der internationalen Bestseller-Story Heated Rivalry aus der Reihe Game Changers series.\n\n\nUm die genauen Informationen noch einmal anzuschauen, klicken Sie bitte auf folgenden Link: \nhttps://veranstaltungen.ulm.de/leoonline/portals/ulm_en/veranstaltungen/id/52155/
DTEND:20260513T230000
DTSTART:20260513T190000
LOCATION:Club Frau Berger - 89077 Ulm Ehinger Straße 19
SUMMARY:Veranstaltungskalender Ulm/Neu-Ulm - Heated Rivalry Party in Ulm
BEGIN:VALARM
ACTION:DISPLAY
TRIGGER:-P1D
END:VALARM
END:VEVENT
END:VCALENDAR
