BEGIN:VCALENDAR
METHOD:publish
PRODID:-//Stadt Ulm//NONSGML v1.0//DE
VERSION:2.0
BEGIN:VEVENT
UID:support@ulm.de
DTSTAMP:20260422T213900Z
DESCRIPTION:„Die MitMacherei”\n\nBastler:innen mit Herz gesucht: Am Freitag, 29. Mai, lädt „engagiert in ulm” zur nächsten MitMacherei in die Radgasse 8 ein. In der offenen Kreativrunde werden zwischen 17 und 19 Uhr gemeinsam schöne Objekte gestaltet, die dann als Spende an soziale Einrichtungen gehen. Für die Teilnahme sind keine Vorkenntnisse erforderlich. Wer zusammen im Team kreativ werden will, ist herzlich willkommen.\n\n\nUm die genauen Informationen noch einmal anzuschauen, klicken Sie bitte auf folgenden Link: \nhttps://veranstaltungen.ulm.de/leoonline/portals/ulm_en/veranstaltungen/id/52135/
DTEND:20260529T190000
DTSTART:20260529T170000
LOCATION:Ulm, Radgasse 8 - 89073 Ulm Radgasse 8
SUMMARY:Veranstaltungskalender Ulm/Neu-Ulm - „Die MitMacherei”
BEGIN:VALARM
ACTION:DISPLAY
TRIGGER:-P1D
END:VALARM
END:VEVENT
END:VCALENDAR
