BEGIN:VCALENDAR
METHOD:publish
PRODID:-//Stadt Ulm//NONSGML v1.0//DE
VERSION:2.0
BEGIN:VEVENT
UID:support@ulm.de
DTSTAMP:20260423T143900Z
DESCRIPTION:Köstliche Weihnachtsgewärze\n\nKöstliche Weihnachtsgewürze
Führung durch die Gewächshäuser (1 Std.)
Referentin: Helga Schneller
Treffpunkt: Eingang Gewächshäuser
Kosten: 5 € | Person
Anmeldung erforderlich: Buchungsportal\n\n\nUm die genauen Informationen noch einmal anzuschauen, klicken Sie bitte auf folgenden Link: \nhttps://veranstaltungen.ulm.de/leoonline/portals/ulm_en/veranstaltungen/id/51694/
DTEND:20261213T151500
DTSTART:20261213T141500
LOCATION:Botanischer Garten der Universität Ulm - 89081 Ulm Hans-Krebs-Weg
SUMMARY:Veranstaltungskalender Ulm/Neu-Ulm - Köstliche Weihnachtsgewärze
BEGIN:VALARM
ACTION:DISPLAY
TRIGGER:-P1D
END:VALARM
END:VEVENT
END:VCALENDAR
