BEGIN:VCALENDAR
METHOD:publish
PRODID:-//Stadt Ulm//NONSGML v1.0//DE
VERSION:2.0
BEGIN:VEVENT
UID:support@ulm.de
DTSTAMP:20260423T143900Z
DESCRIPTION:Bäume und Sträucher im Winterzustand\n\nSamstag, 21.11.26
9.00 - 18.00 Uhr
Bäume und Sträucher im Winterzustand
Bestimmungskurs mit Exkursion
Kursreihe Artenkenntnis
Referent: Dipl.-Biol. Wolfgang Decrusch
Treffpunkt: Verwaltungsgebäude | Seminarraum
Kursgebühr: 45 € | Person
Anmeldung und Kursbeschreibung: www.faszination-botanik.de\n\n\nUm die genauen Informationen noch einmal anzuschauen, klicken Sie bitte auf folgenden Link: \nhttps://veranstaltungen.ulm.de/leoonline/portals/ulm_en/veranstaltungen/id/51693/
DTEND:20261121T180000
DTSTART:20261121T090000
LOCATION:Botanischer Garten der Universität Ulm - 89081 Ulm Hans-Krebs-Weg
SUMMARY:Veranstaltungskalender Ulm/Neu-Ulm - Bäume und Sträucher im Winterzustand
BEGIN:VALARM
ACTION:DISPLAY
TRIGGER:-P1D
END:VALARM
END:VEVENT
END:VCALENDAR
