BEGIN:VCALENDAR
METHOD:publish
PRODID:-//Stadt Ulm//NONSGML v1.0//DE
VERSION:2.0
BEGIN:VEVENT
UID:support@ulm.de
DTSTAMP:20260423T144000Z
DESCRIPTION:Heilige Blüten und bittere Tränke - Pflanzen der Azteken\n\nDonnerstag, 19.11.26
12.15 - 12.45 Uhr
Heilige Blüten und bittere Tränke - Pflanzen der Azteken

Botanische Mittagspause

Thema: Heilige Blüten und bittere Tränke - Pflanzen der Azteken
Referent: BoGa-Team
Treffpunkt: Eingang Gewächshäuser
Teilnahme kostenlos!\n\n\nUm die genauen Informationen noch einmal anzuschauen, klicken Sie bitte auf folgenden Link: \nhttps://veranstaltungen.ulm.de/leoonline/portals/ulm_en/veranstaltungen/id/51691/
DTEND:20261119T121500
DTSTART:20261119T121500
LOCATION:Botanischer Garten der Universität Ulm - 89081 Ulm Hans-Krebs-Weg
SUMMARY:Veranstaltungskalender Ulm/Neu-Ulm - Heilige Blüten und bittere Tränke - Pflanzen der Azteken
BEGIN:VALARM
ACTION:DISPLAY
TRIGGER:-P1D
END:VALARM
END:VEVENT
END:VCALENDAR
