BEGIN:VCALENDAR
METHOD:publish
PRODID:-//Stadt Ulm//NONSGML v1.0//DE
VERSION:2.0
BEGIN:VEVENT
UID:support@ulm.de
DTSTAMP:20260424T194200Z
DESCRIPTION:Lange Saunaabende mit Motto\n\nImmer am 1. Freitag im Monat findet der „Lange Saunaabend mit Motto“ statt. Neben themenbezogenen Speisen & Aufgüssen, Gewinnspiel und FKK-Baden im Thermalbereich, gibt es musikalische Begleitung durch Live-Musik oder auch andere Künstler / Darbietungen. Wer die Show-Aufgüsse der Sauna mag, wird den Saunaabend mit Motto lieben lernen!\n\n\nUm die genauen Informationen noch einmal anzuschauen, klicken Sie bitte auf folgenden Link: \nhttps://veranstaltungen.ulm.de/leoonline/portals/ulm_en/veranstaltungen/id/37710/
DTEND:20260905T010000
DTSTART:20260904T190000
LOCATION:Donaubad Neu-Ulm - 89231 Neu-Ulm Wiblingerstr. 55
SUMMARY:Veranstaltungskalender Ulm/Neu-Ulm - Lange Saunaabende mit Motto
BEGIN:VALARM
ACTION:DISPLAY
TRIGGER:-P1D
END:VALARM
END:VEVENT
END:VCALENDAR
