BEGIN:VCALENDAR
METHOD:publish
PRODID:-//Stadt Ulm//NONSGML v1.0//DE
VERSION:2.0
BEGIN:VEVENT
UID:support@ulm.de
DTSTAMP:20260425T043700Z
DESCRIPTION:Argentinische Tage im Liederkranz\n\nZwei Tage Südamerika in der Friedrichsau: Live-Bands, Folklore, Malambo, Drum Circle – und nach Sonnenuntergang wird getanzt. Von Salsa und Bachata über argentinischen Gaucho-Tanz bis Reggaeton. Dazu gutes Essen, kalte Getränke und die offene Bühne unter freiem Himmel.\n\n\nUm die genauen Informationen noch einmal anzuschauen, klicken Sie bitte auf folgenden Link: \nhttps://veranstaltungen.ulm.de/leoonline/portals/ulm_en/veranstaltungen/id/52253/
DTEND:20260514T210000
DTSTART:20260513T170000
LOCATION:Biergarten Liederkranz - 89073 Ulm Friedrichsau 9
SUMMARY:Veranstaltungskalender Ulm/Neu-Ulm - Argentinische Tage im Liederkranz
BEGIN:VALARM
ACTION:DISPLAY
TRIGGER:-P1D
END:VALARM
END:VEVENT
END:VCALENDAR
