BEGIN:VCALENDAR
METHOD:publish
PRODID:-//Stadt Ulm//NONSGML v1.0//DE
VERSION:2.0
BEGIN:VEVENT
UID:support@ulm.de
DTSTAMP:20260424T180100Z
DESCRIPTION:Nähmaschinen, Cover- und Overlock-Einweisung\n\nIn der Textilwerkstatt kannst du mit Profi-Nähmaschine, Overlock, Coverlock und Stickmaschine (separate Einweisung) kreativ werden – nähe Kleidung, repariere Jeans oder veredele Taschen und Textilien mit coolen Stickmotiven. Ob Upcycling-Projekt oder DIY-Geschenk – hier entstehen deine individuellen Unikate. Spaß für alle, die Lust haben, Stoffe mit Garn lebendig werden zu lassen.

Für eine Teilnahme bitten wir um eine vorherige Anmeldung per Email (makerspace@ulm.de). Jugendliche unter 14 Jahren dürfen nur mit einer erziehungsberechtigten Person teilnehmen und nach der Einweisung die Geräte auch nur mit dieser Person benutzen.\n\n\nUm die genauen Informationen noch einmal anzuschauen, klicken Sie bitte auf folgenden Link: \nhttps://veranstaltungen.ulm.de/leoonline/portals/ulm_en/veranstaltungen/id/49648/
DTEND:20260604T170000
DTSTART:20260604T153000
LOCATION:Makerspace Zentralbibliothek Ulm - 89073 Ulm Vestgasse 1
SUMMARY:Veranstaltungskalender Ulm/Neu-Ulm - Nähmaschinen, Cover- und Overlock-Einweisung
BEGIN:VALARM
ACTION:DISPLAY
TRIGGER:-P1D
END:VALARM
END:VEVENT
END:VCALENDAR
