BEGIN:VCALENDAR
METHOD:publish
PRODID:-//Stadt Ulm//NONSGML v1.0//DE
VERSION:2.0
BEGIN:VEVENT
UID:support@ulm.de
DTSTAMP:20260422T110700Z
DESCRIPTION:Wer jetzo zieht ins Ungarland...\n\nUnsere Schauspielerinnen und Schauspieler nehmen Sie mit auf eine temperamentvolle Reise durch Zeit und Raum. Waren Sie eben noch in einem Klassenzimmer im Banat, finden Sie sich plötzlich mit Auswanderern auf einer Ulmer Schachtel oder auf den Straßen des historischen Temeswar. Gerade standen Sie noch am Marktstand eines Blaufärberehepaars, da geraten Sie schon in den Strudel des Zweiten Weltkriegs und landen schließlich in der Gegenwart.
5 EUR zzgl. Eintritt; am 1. Freitag im Monat kostenfrei\n\n\nUm die genauen Informationen noch einmal anzuschauen, klicken Sie bitte auf folgenden Link: \nhttps://veranstaltungen.ulm.de/leoonline/portals/ulm_en/veranstaltungen/id/48003/
DTEND:20260816T140000
DTSTART:20260816T140000
LOCATION:Donauschwäbisches Zentralmuseum - 89077 Ulm Schillerstraße 1
SUMMARY:Veranstaltungskalender Ulm/Neu-Ulm - Wer jetzo zieht ins Ungarland...
BEGIN:VALARM
ACTION:DISPLAY
TRIGGER:-P1D
END:VALARM
END:VEVENT
END:VCALENDAR
