BEGIN:VCALENDAR
METHOD:publish
PRODID:-//Stadt Ulm//NONSGML v1.0//DE
VERSION:2.0
BEGIN:VEVENT
UID:support@ulm.de
DTSTAMP:20260422T110700Z
DESCRIPTION:Donau Flussgeschichten\n\nDie Führung gibt Einblicke in das Leben an und mit der Donau. Sie begegnen dem sagenumwobenen Donausaurier, hören abenteuerliche Berichte von Donau-Reisenden, lernen die Donau als lebensgefährlichen Strom kennen und entdecken die Kaffeehauskultur in Wien und Budapest.
3 EUR zzgl. Eintritt; am 1. Freitag im Monat kostenfrei\n\n\nUm die genauen Informationen noch einmal anzuschauen, klicken Sie bitte auf folgenden Link: \nhttps://veranstaltungen.ulm.de/leoonline/portals/ulm_en/veranstaltungen/id/48001/
DTEND:20260802T140000
DTSTART:20260802T140000
LOCATION:Donauschwäbisches Zentralmuseum - 89077 Ulm Schillerstraße 1
SUMMARY:Veranstaltungskalender Ulm/Neu-Ulm - Donau Flussgeschichten
BEGIN:VALARM
ACTION:DISPLAY
TRIGGER:-P1D
END:VALARM
END:VEVENT
END:VCALENDAR
