BEGIN:VCALENDAR
METHOD:publish
PRODID:-//Stadt Ulm//NONSGML v1.0//DE
VERSION:2.0
BEGIN:VEVENT
UID:support@ulm.de
DTSTAMP:20260424T140400Z
DESCRIPTION:Maibaumfeier & Rock in den Mai\n\nDie Stadt Neu-Ulm lädt am 30. April wieder zur Maibaumfeier und dem anschließenden „Rock in den Mai“ ein.
Die Stadtkapelle läutet ab 17.30 Uhr zusammen mit dem Chor der Mark-Twain-Grundschule die Feierlichkeiten ein.  
Ab 19 Uhr stehen BLACK BETTY aus Pfaffenhofen auf der Bühne und erfreuen mit ihrem breiten Spektrum aus Songs der letzten 70 Jahre jeden Musikliebhaber.
Gegen 20.30 Uhr dürfen sich die Gäste auf die JESUS GEORGE freuen. 
Jesus George ist…wenn Lenny Kravitz sich an Amy Winehouse lehnt – getragen vom Sound der Kings of Leon, angetrieben von den Red Hot Chili Peppers, gedrückt von The Knack und abgeholt von Iggy Pop. Unverkrampft. Direkt. Mit Kultcharakter.
Mitsingen, Mittanzen und Mitrocken ist ausdrücklich erwünscht!
Für Speisen & Getränke sorgen der Stand der Freiwilligen Feuerwehr Neu-Ulm, der Foodtruck der Illerbuben sowie die Crêpe Boutique SugarBomb.
Der Eintritt ist selbstverständlich frei. Let's rock!\n\n\nUm die genauen Informationen noch einmal anzuschauen, klicken Sie bitte auf folgenden Link: \nhttps://veranstaltungen.ulm.de/leoonline/portals/ulm_en/veranstaltungen/id/51758/
DTEND:20260430T173000
DTSTART:20260430T173000
LOCATION:Rathausplatz Neu-Ulm - 89231 Neu-Ulm Augsburger Straße 15
SUMMARY:Veranstaltungskalender Ulm/Neu-Ulm - Maibaumfeier & Rock in den Mai
BEGIN:VALARM
ACTION:DISPLAY
TRIGGER:-P1D
END:VALARM
END:VEVENT
END:VCALENDAR
