BEGIN:VCALENDAR
METHOD:publish
PRODID:-//Stadt Ulm//NONSGML v1.0//DE
VERSION:2.0
BEGIN:VEVENT
UID:support@ulm.de
DTSTAMP:20260425T043700Z
DESCRIPTION:The Cloverhearts\n\nThe Cloverhearts gehören zu den spannendsten und am schnellsten wachsenden Bands der internationalen Celtic-Punk-Szene. Angeführt vom australischen Sänger und Songwriter Sam Cooper verbindet die Band die rohe Energie des Punk mit der Emotionalität und Tradition irischer Folk-Elemente – kraftvolle Dudelsack-Hymnen, treibende Tin-Whistle-Melodien und mitreißende Refrains inklusive.\n\n\nUm die genauen Informationen noch einmal anzuschauen, klicken Sie bitte auf folgenden Link: \nhttps://veranstaltungen.ulm.de/leoonline/portals/ulm_en/veranstaltungen/id/51444/
DTEND:20260514T200000
DTSTART:20260514T200000
LOCATION:Bonanzbar - 89231 Neu-Ulm Illerholzweg 11
SUMMARY:Veranstaltungskalender Ulm/Neu-Ulm - The Cloverhearts
BEGIN:VALARM
ACTION:DISPLAY
TRIGGER:-P1D
END:VALARM
END:VEVENT
END:VCALENDAR
