BEGIN:VCALENDAR
METHOD:publish
PRODID:-//Stadt Ulm//NONSGML v1.0//DE
VERSION:2.0
BEGIN:VEVENT
UID:support@ulm.de
DTSTAMP:20260424T192200Z
DESCRIPTION:Malaka Hostel\n\nMit ihrer explosiven Mischung, die die Band selbst als Global Umpa bezeichnet, reißen Malaka Hostel spielend die unsichtbare Mauer zwischen Band und Publikum nieder. Folkloristisches, egal ob vom Balkan oder aus den Anden, findet seinen Platz - getragen von Malaka Hostels groovenden Beats, während die aus Trompeten und Mundharmonika bestehende Brass Section lossprudelt. Im März 2026 erscheint ihr drittes Studioalbum Brucca Beat – ein Soundtrack für das Verbindende in bewegten Zeiten. Malaka Hostel schlagen darin Brücken zwischen Menschen, Sprachen und musikalischen Welten. Im Frühjahr 2026 sind die Kojoten wieder auf Tour – mit klarer Mission: kollektive Tanz-Ekstase!\n\n\nUm die genauen Informationen noch einmal anzuschauen, klicken Sie bitte auf folgenden Link: \nhttps://veranstaltungen.ulm.de/leoonline/portals/ulm_en/veranstaltungen/id/50609/
DTEND:20260502T210000
DTSTART:20260502T210000
LOCATION:ROXY Ulm - 89077 Ulm Schillerstraße 1/12
SUMMARY:Veranstaltungskalender Ulm/Neu-Ulm - Malaka Hostel
BEGIN:VALARM
ACTION:DISPLAY
TRIGGER:-P1D
END:VALARM
END:VEVENT
END:VCALENDAR
