BEGIN:VCALENDAR
METHOD:publish
PRODID:-//Stadt Ulm//NONSGML v1.0//DE
VERSION:2.0
BEGIN:VEVENT
UID:support@ulm.de
DTSTAMP:20260424T121800Z
DESCRIPTION:Ennio\n\nENNIO veröffentlicht mit "Haifischbecken" nicht nur einen neuen Song, sondern leitet damit auch eine neue eigene Ära ein. Mit der neuen Single kündigt er außerdem die "HAIFISCHBECKEN" TOUR 2026 für nächstes Frühjahr an.

Er ist nicht mehr nur Singer/Songwriter, er ist auch Labelchef und will damit die ganze Branche aufmischen. Das Haifischbecken ist eine Kritik an der Industrie, die an schnellem Profit und dem Umsetzen eigener Vorteile interessiert ist. In der die Haie sich gegenseitig fressen, in der Gier und Ignoranz zu überteuerten Tickets und falscher Wertschätzung führt.

In "Haifischbecken" spricht ENNIO über seine Erfahrungen, die er in diesem Kontext als Künstler gemacht hat und wie er aus diesen ausbricht. Er setzt einen Appell und den Auftakt für eine Bewegung, in der Künstler:innen wieder Individuen mit eigenen Regeln sein dürfen und sprengt das altertümliche Korsett der Musikindustrie. Jetzt beißt ENNIO zurück.\n\n\nUm die genauen Informationen noch einmal anzuschauen, klicken Sie bitte auf folgenden Link: \nhttps://veranstaltungen.ulm.de/leoonline/portals/ulm_en/veranstaltungen/id/50242/
DTEND:20260428T200000
DTSTART:20260428T200000
LOCATION:ROXY Ulm - 89077 Ulm Schillerstraße 1/12
SUMMARY:Veranstaltungskalender Ulm/Neu-Ulm - Ennio
BEGIN:VALARM
ACTION:DISPLAY
TRIGGER:-P1D
END:VALARM
END:VEVENT
END:VCALENDAR
