BEGIN:VCALENDAR
METHOD:publish
PRODID:-//Stadt Ulm//NONSGML v1.0//DE
VERSION:2.0
BEGIN:VEVENT
UID:support@ulm.de
DTSTAMP:20260426T040800Z
DESCRIPTION:Les P'tits Fils de Jeanine\n\n15 Jahre P'tits Fils de Jeanine – Ein Jubiläum im Zeichen von Musik, Humor und Lebenslust

Die französische Band Les P'tits Fils de Jeanine feiert 2026 ihr 15-jähriges Bühnenjubiläum – und lädt das Publikum ein, diese außergewöhnliche Reise voller Energie, Witz und Spielfreude live mitzuerleben.

Bekannt für ihren unverwechselbaren Mix aus Chanson, Blech, Folk und Straßentheater begeistern die Musiker seit anderthalb Jahrzehnten Fans in ganz Europa. Mit augenzwinkernder Selbstironie, treibenden Rhythmen und einer mitreißenden Bühnenpräsenz verwandeln sie jedes Konzert in ein Fest des Lebens.

Die Geschichte der Band beginnt – wie so viele gute Geschichten – mit „Mémé" Jeanine. Sie schickte einst ihre musikalischen Enkel auf die Straße, um ein paar Münzen zu verdienen. Aus improvisierten Melodien und spontanen Auftritten wurde ein unverkennbarer Stil, der heute für pure Spielfreude und handgemachten Sound steht.

Ihre Lieder erzählen vom Alltag, von Hoffnung, vom Humor der kleinen Dinge – und davon, wie Musik Menschen verbindet. Balalaika, Akkordeon, Bläser, Theater und Improvisation verschmelzen zu einem warmherzigen Klangcocktail, der jeden Saal in Bewegung bringt.

Ob Groß oder Klein, Punk oder Beamter, Baby oder Großmutter – Les P'tits Fils de Jeanine schaffen es wie kaum eine andere Band, das Publikum generationsübergreifend zu vereinen.

***

Allgemeine Infos zum Sound Garten:

- Öffnungszeiten: Mittwoch — Samstag ab 17:00 H
- Eintritt zu allen Veranstaltungen kostenlos
- keine Sitzplatzreservierung möglich. First come, first serve!
- bei schlechtem Wetter bleibt der Biergarten geschlossen. Darüber informieren wir auf unserer Website und unseren Social Media Kanälen.
- an Konzerttagen nur Selbstbedienung\n\n\nUm die genauen Informationen noch einmal anzuschauen, klicken Sie bitte auf folgenden Link: \nhttps://veranstaltungen.ulm.de/leoonline/portals/ulm/veranstaltungen/id/52319/
DTEND:20260723T200000
DTSTART:20260723T200000
LOCATION:ROXY Ulm - 89077 Ulm Schillerstraße 1/12
SUMMARY:Veranstaltungskalender Ulm/Neu-Ulm - Les P'tits Fils de Jeanine
BEGIN:VALARM
ACTION:DISPLAY
TRIGGER:-P1D
END:VALARM
END:VEVENT
END:VCALENDAR
