BEGIN:VCALENDAR
METHOD:publish
PRODID:-//Stadt Ulm//NONSGML v1.0//DE
VERSION:2.0
BEGIN:VEVENT
UID:support@ulm.de
DTSTAMP:20260425T024600Z
DESCRIPTION:FLOHMARKT im Liederkranz\n\nFlohmarkt im Liederkranz - am 31.05. ab 15 Uhr. 
Kleider, Krempel, Food, Musik von unseren DJs + ganz viel Sonne!
Meldet euch unter flohmarkt@liederkranz-ulm.de an!\n\n\nUm die genauen Informationen noch einmal anzuschauen, klicken Sie bitte auf folgenden Link: \nhttps://veranstaltungen.ulm.de/leoonline/portals/ulm/veranstaltungen/id/52256/
DTEND:20260531T180000
DTSTART:20260531T150000
LOCATION:Biergarten Liederkranz - 89073 Ulm Friedrichsau 9
SUMMARY:Veranstaltungskalender Ulm/Neu-Ulm - FLOHMARKT im Liederkranz
BEGIN:VALARM
ACTION:DISPLAY
TRIGGER:-P1D
END:VALARM
END:VEVENT
END:VCALENDAR
