BEGIN:VCALENDAR
METHOD:publish
PRODID:-//Stadt Ulm//NONSGML v1.0//DE
VERSION:2.0
BEGIN:VEVENT
UID:support@ulm.de
DTSTAMP:20260422T104300Z
DESCRIPTION:ULM MACHT SPORT – UMSONST & DRAUSSEN\n\nNeugierig auf ULM MACHT SPORT – UMSONST & DRAUSSEN? Vor dem Start sind wir auf dem Wochenmarkt am Münsterplatz – mit Infos und Antworten rund ums Programm. Vorbeikommen, weitersagen!\n\n\nUm die genauen Informationen noch einmal anzuschauen, klicken Sie bitte auf folgenden Link: \nhttps://veranstaltungen.ulm.de/leoonline/portals/ulm/veranstaltungen/id/52243/
DTEND:20260509T130000
DTSTART:20260509T080000
LOCATION:Ulmer Wochenmarkt - 89073 Ulm Münsterplatz
SUMMARY:Veranstaltungskalender Ulm/Neu-Ulm - ULM MACHT SPORT – UMSONST & DRAUSSEN
BEGIN:VALARM
ACTION:DISPLAY
TRIGGER:-P1D
END:VALARM
END:VEVENT
END:VCALENDAR
