BEGIN:VCALENDAR
METHOD:publish
PRODID:-//Stadt Ulm//NONSGML v1.0//DE
VERSION:2.0
BEGIN:VEVENT
UID:support@ulm.de
DTSTAMP:20260422T040800Z
DESCRIPTION:Frank Hempel in memoriam\n\nDie pro arte ulmer kunststiftung erinnert mit dieser Ausstellung an den im Herbst vergangenen Jahres verstorbenen Maler und Grafiker Frank Hempel.\n\n\nUm die genauen Informationen noch einmal anzuschauen, klicken Sie bitte auf folgenden Link: \nhttps://veranstaltungen.ulm.de/leoonline/portals/ulm/veranstaltungen/id/52213/
DTEND:20260424T210000
DTSTART:20260424T190000
LOCATION:Galerie im Kornhauskeller - 89073 Ulm Hafengasse 19
SUMMARY:Veranstaltungskalender Ulm/Neu-Ulm - Frank Hempel in memoriam
BEGIN:VALARM
ACTION:DISPLAY
TRIGGER:-P1D
END:VALARM
END:VEVENT
END:VCALENDAR
