BEGIN:VCALENDAR
METHOD:publish
PRODID:-//Stadt Ulm//NONSGML v1.0//DE
VERSION:2.0
BEGIN:VEVENT
UID:support@ulm.de
DTSTAMP:20260422T055300Z
DESCRIPTION:PUBheimer im Fiddler's Green Irishpub und CHRISTOPH SCHERER & ANNIKA DIETMANN\n\nDer Ulmer Schlagzeuger Christoph Scherer lädt in jeder Ausgabe andere lokale und regionale Künstler auf die PUBbühne ein, ihre EIGENEN Songs mit der PUBheimer-Band zu präsentieren. Dieses Mal mit: ANNIKA DIETMANN
Annika verbindet tiefgehende, deutschsprachige und englische Texte mit Gitarrenmusik und ehrlichem Storytelling.
Sie tourte bereits seit 2019 durch Deutschland und erlangt nun hier in der Region mehr Bekanntheit.\n\n\nUm die genauen Informationen noch einmal anzuschauen, klicken Sie bitte auf folgenden Link: \nhttps://veranstaltungen.ulm.de/leoonline/portals/ulm/veranstaltungen/id/52205/
DTEND:20260422T220000
DTSTART:20260422T193000
LOCATION:Fiddler’s Green Irish Pub - 89284 Pfaffenhofen Volkertshofener Straße 7A
SUMMARY:Veranstaltungskalender Ulm/Neu-Ulm - PUBheimer im Fiddler's Green Irishpub und CHRISTOPH SCHERER & ANNIKA DIETMANN
BEGIN:VALARM
ACTION:DISPLAY
TRIGGER:-P1D
END:VALARM
END:VEVENT
END:VCALENDAR
