BEGIN:VCALENDAR
METHOD:publish
PRODID:-//Stadt Ulm//NONSGML v1.0//DE
VERSION:2.0
BEGIN:VEVENT
UID:support@ulm.de
DTSTAMP:20260425T023200Z
DESCRIPTION:Check & Chill\n\nDie Band aus der Ulmer Region spielt Eigenkompositionen im Spannungsfeld von Jazz, Funk und Fusion sowie Interpretationen u.a. von Stücken The Meters, Bill Evans, Lee Ritenour, Stanley Turrentine. Eingängige Themen und lockere Grooves bilden das Gerüst für fesselnde Improvisationen.
Anna Dontsova: Vocals
Matthias Haacke: Gitarre
Tamas Weisz Trompete/ Flügelhorn
Eva Maria Ogrzewalla: Keyboard
Patrick Langer: Bass
Freddy Birk: Schlagzeug\n\n\nUm die genauen Informationen noch einmal anzuschauen, klicken Sie bitte auf folgenden Link: \nhttps://veranstaltungen.ulm.de/leoonline/portals/ulm/veranstaltungen/id/52203/
DTEND:20260705T180000
DTSTART:20260705T180000
LOCATION:Biergarten Liederkranz - 89073 Ulm Friedrichsau 9
SUMMARY:Veranstaltungskalender Ulm/Neu-Ulm - Check & Chill
BEGIN:VALARM
ACTION:DISPLAY
TRIGGER:-P1D
END:VALARM
END:VEVENT
END:VCALENDAR
