BEGIN:VCALENDAR
METHOD:publish
PRODID:-//Stadt Ulm//NONSGML v1.0//DE
VERSION:2.0
BEGIN:VEVENT
UID:support@ulm.de
DTSTAMP:20260425T024600Z
DESCRIPTION:Calling Blues\n\nDer Blues ruft – und wir antworten mit einem Abend voller Seele, Groove und elektrisierender Live-Musik.
Auf der Bühne steht die ganz neue Ulmer OKAPI BLUESBAND mit Sängerin Silke Dilling, die lauter alte und erfahrene Hasen der Ulmer Bandszene an ihrer Seite hat. Vom Blues zum zeitgenössischen Rock - Joe Bonamassa und Gary Moore lassen grüßen.
Mit Revana hat auch die andere Band des Abends eine Frau vorne dran, die dem Publikum kräftig einheizt. MAD AT YOUR MAN ist ebenfalls eine Bluesband.\n\n\nUm die genauen Informationen noch einmal anzuschauen, klicken Sie bitte auf folgenden Link: \nhttps://veranstaltungen.ulm.de/leoonline/portals/ulm/veranstaltungen/id/52202/
DTEND:20260619T190000
DTSTART:20260619T190000
LOCATION:Biergarten Liederkranz - 89073 Ulm Friedrichsau 9
SUMMARY:Veranstaltungskalender Ulm/Neu-Ulm - Calling Blues
BEGIN:VALARM
ACTION:DISPLAY
TRIGGER:-P1D
END:VALARM
END:VEVENT
END:VCALENDAR
