BEGIN:VCALENDAR
METHOD:publish
PRODID:-//Stadt Ulm//NONSGML v1.0//DE
VERSION:2.0
BEGIN:VEVENT
UID:support@ulm.de
DTSTAMP:20260423T055700Z
DESCRIPTION:Ausstellung "Wenn graues Haar dir wächst"\n\nDer Ausstellungstitel markiert einen poetischen und zugleich irritierenden Einstieg in das Werk von Reinhard Köhler.
Seine Arbeiten untersuchen die Einschreibungen von Zeit und Wandel in Körper, Biografien und gesellschaftliche Strukturen. Zerfall erscheint dabei nicht nur als individuelle Erfahrung, sondern auch als kulturell und politisch geprägter Prozess. Mit fragmentarischer, reduzierter Bildsprache verbindet Köhler persönliche Erinnerung mit Fragen nach Sichtbarkeit und Würde.\n\n\nUm die genauen Informationen noch einmal anzuschauen, klicken Sie bitte auf folgenden Link: \nhttps://veranstaltungen.ulm.de/leoonline/portals/ulm/veranstaltungen/id/52197/
DTEND:20260521T200000
DTSTART:20260521T170000
LOCATION:KUNSTPOOL. Galerie am Ehinger Tor - 89077 Ulm Ehinger Tor (Haltestellengelände)
SUMMARY:Veranstaltungskalender Ulm/Neu-Ulm - Ausstellung "Wenn graues Haar dir wächst"
BEGIN:VALARM
ACTION:DISPLAY
TRIGGER:-P1D
END:VALARM
END:VEVENT
END:VCALENDAR
